BEGIN:VCALENDAR
VERSION:2.0
PRODID:icalendar-ruby
CALSCALE:GREGORIAN
METHOD:PUBLISH
BEGIN:VEVENT
DTSTAMP:20260421T103411Z
UID:343-23487@nisynod.org
DTSTART:20260429T000000Z
DTEND:20260429T013000Z
CLASS:PUBLIC
CREATED:20260420T092347
DESCRIPTION:Join the Region 5 Directors for Evangelical Mission (DEMs) for 
 an engaging webinar series exploring The Invitational Christian by Dave D
 aubert—a practical and hope-filled guide to sharing faith through authen
 tic relationships. With chapters on Why Should Anyone Come\, Quality Matt
 ers\, Knowing Our Story\, and Address Their Fears\, this book – and the 
 three associated web sessions – will help us develop an action plan for 
 our congregational contexts.\nDesigned for congregations across Iowa\, Ill
 inois\, and Wisconsin\, this series will equip leaders and members alike t
 o look at how the biblical story grounds our stories as God’s people. I
 t will help people tell their stories and be better at listening to each o
 ther’s stories. Ultimately\, the goal is to form deeper story communitie
 s where people share deeply and faith is nurtured. Through conversation\,
  reflection\, and real-life application\, you’ll discover how small\, in
 tentional practices can open the door to deeper relationships and spiritua
 l curiosity in your community.  \nCost: FREE – but please register at 
 The Invitational Christian Webinar Series  . The Zoom link will be shared
  with those who are officially registered for the event.  \nWebinar Date
 s:\n\nSession 1 with author Rev. Dave Daubert - April 28th | 7:00-8:30pm\n
 \nSession 2 - with Pastor Josh Ebener\, DEM - May 19th | 7:00-8:30pm\n\nSe
 ssion 3 with author Rev. Dave Daubert - June 2nd |  7:00-8:30pm\n\nBefore
  the first webinar\, we recommend that you buy your own copy of Dave Daube
 rt’s book The Invitational Christian. \n\nYou can order an individual c
 opy at https://books.by/day-8-strategies/the-invitational-christian  \nF
 or two or more copies to the same mailing address (save $ with a discount)
 \, use this link: https://www.day8strategies.com/product/the-invitational-
 christian\n
LAST-MODIFIED:20260420T092347
LOCATION:Zoom
SUMMARY:The Invitational Christian Webinar Series
URL;VALUE=URI:https://www.nisynod.org/events/the-invitational-christian-web
 inar-series/2026-04-28
ATTACH;FILENAME=Invitational Header.png;FMTTYPE=image/png:https://dq5pwpg1q
 8ru0.cloudfront.net/2026/04/20/14/23/46/ecb50983-e4f1-4c50-b745-132d1251a2
 93/Invitational%20Header.png
END:VEVENT
END:VCALENDAR
